BEGIN:VCALENDAR
VERSION:2.0
PRODID:-//Runtra - ECPv6.0.8//NONSGML v1.0//EN
CALSCALE:GREGORIAN
METHOD:PUBLISH
X-ORIGINAL-URL:https://staging6.runtra.com
X-WR-CALDESC:Events for Runtra
REFRESH-INTERVAL;VALUE=DURATION:PT1H
X-Robots-Tag:noindex
X-PUBLISHED-TTL:PT1H
BEGIN:VTIMEZONE
TZID:America/Chicago
BEGIN:DAYLIGHT
TZOFFSETFROM:-0600
TZOFFSETTO:-0500
TZNAME:CDT
DTSTART:20230312T080000
END:DAYLIGHT
BEGIN:STANDARD
TZOFFSETFROM:-0500
TZOFFSETTO:-0600
TZNAME:CST
DTSTART:20231105T070000
END:STANDARD
END:VTIMEZONE
BEGIN:VEVENT
DTSTART;TZID=America/Chicago:20230116T080000
DTEND;TZID=America/Chicago:20231031T170000
DTSTAMP:20260423T150326
CREATED:20230116T071014Z
LAST-MODIFIED:20230302T070634Z
UID:10000291-1673856000-1698771600@staging6.runtra.com
SUMMARY:Ticketed Event With RSVP
DESCRIPTION:Ticketed Event With RSVP
URL:https://staging6.runtra.com/event/ticketed-event-with-rsvp/
LOCATION:Raipur Marine Drive\, Raipur Marine Drive\, Telibanda\, Raipur\, 49002
CATEGORIES:Cross-Training,Long Run,Races,Short Run
ATTACH;FMTTYPE=image/jpeg:https://staging6.runtra.com/wp-content/uploads/2023/01/images-2.jpeg
ORGANIZER;CN="Laxmi%20User":MAILTO:laxmi_up@walkwel.in
GEO:21.2407224;81.6604157
X-APPLE-STRUCTURED-LOCATION;VALUE=URI;X-ADDRESS=Raipur Marine Drive Raipur Marine Drive Telibanda Raipur 49002;X-APPLE-RADIUS=500;X-TITLE=Raipur Marine Drive\, Telibanda:geo:81.6604157,21.2407224
END:VEVENT
BEGIN:VEVENT
DTSTART;TZID=America/Chicago:20230205T060000
DTEND;TZID=America/Chicago:20230205T070000
DTSTAMP:20260423T150326
CREATED:20230107T033127Z
LAST-MODIFIED:20230107T033127Z
UID:10000281-1675576800-1675580400@staging6.runtra.com
SUMMARY:Raipur River Run
DESCRIPTION:This is a run on Raipur marine drive.
URL:https://staging6.runtra.com/event/raipur-river-run/2023-02-05/
LOCATION:Raipur Marine Drive\, Raipur Marine Drive\, Telibanda\, Raipur\, 49002
CATEGORIES:Short Run
ATTACH;FMTTYPE=image/jpeg:https://staging6.runtra.com/wp-content/uploads/2023/01/26167203_908855435944954_6425181120329259286_n_20190305123458.jpg
ORGANIZER;CN="Amaresh%20Chitrakavi":MAILTO:chitrakavi@gmail.com
GEO:21.2407224;81.6604157
X-APPLE-STRUCTURED-LOCATION;VALUE=URI;X-ADDRESS=Raipur Marine Drive Raipur Marine Drive Telibanda Raipur 49002;X-APPLE-RADIUS=500;X-TITLE=Raipur Marine Drive\, Telibanda:geo:81.6604157,21.2407224
END:VEVENT
BEGIN:VEVENT
DTSTART;TZID=America/Chicago:20230212T060000
DTEND;TZID=America/Chicago:20230212T070000
DTSTAMP:20260423T150326
CREATED:20230107T033127Z
LAST-MODIFIED:20230107T033127Z
UID:10000282-1676181600-1676185200@staging6.runtra.com
SUMMARY:Raipur River Run
DESCRIPTION:This is a run on Raipur marine drive.
URL:https://staging6.runtra.com/event/raipur-river-run/2023-02-12/
LOCATION:Raipur Marine Drive\, Raipur Marine Drive\, Telibanda\, Raipur\, 49002
CATEGORIES:Short Run
ATTACH;FMTTYPE=image/jpeg:https://staging6.runtra.com/wp-content/uploads/2023/01/26167203_908855435944954_6425181120329259286_n_20190305123458.jpg
ORGANIZER;CN="Amaresh%20Chitrakavi":MAILTO:chitrakavi@gmail.com
GEO:21.2407224;81.6604157
X-APPLE-STRUCTURED-LOCATION;VALUE=URI;X-ADDRESS=Raipur Marine Drive Raipur Marine Drive Telibanda Raipur 49002;X-APPLE-RADIUS=500;X-TITLE=Raipur Marine Drive\, Telibanda:geo:81.6604157,21.2407224
END:VEVENT
BEGIN:VEVENT
DTSTART;TZID=America/Chicago:20230215T080000
DTEND;TZID=America/Chicago:20230215T090000
DTSTAMP:20260423T150326
CREATED:20230203T015016Z
LAST-MODIFIED:20230203T015016Z
UID:10000299-1676448000-1676451600@staging6.runtra.com
SUMMARY:Bhojtal 3KM Run
DESCRIPTION:Bhojtal\, formerly known as Upper Lake\, is a large lake which lies on the western side of the capital city of Madhya Pradesh\, Bhopal\, India. It is a major source of drinking water for the residents of the city\, serving around 40% of the residents with nearly 30 million imperial gallons of water per day.
URL:https://staging6.runtra.com/event/bhojtal-3km-run/
LOCATION:Bhojtal Upper Lake\, Bhojtal Upper Lake\, Bhopal\, 462030
CATEGORIES:Short Run
ATTACH;FMTTYPE=image/jpeg:https://staging6.runtra.com/wp-content/uploads/2023/02/Upper_lake_20180219174029.jpg
ORGANIZER;CN="e.macronxyzal123%40gmail.com":MAILTO:e.macronxyzal123@gmail.com
GEO:23.2532367;77.3381855
X-APPLE-STRUCTURED-LOCATION;VALUE=URI;X-ADDRESS=Bhojtal Upper Lake Bhojtal Upper Lake Bhopal 462030;X-APPLE-RADIUS=500;X-TITLE=Bhojtal Upper Lake:geo:77.3381855,23.2532367
END:VEVENT
BEGIN:VEVENT
DTSTART;TZID=America/Chicago:20230217T080000
DTEND;TZID=America/Chicago:20230217T170000
DTSTAMP:20260423T150326
CREATED:20230203T014953Z
LAST-MODIFIED:20230203T020333Z
UID:10000300-1676620800-1676653200@staging6.runtra.com
SUMMARY:Pench 5K
DESCRIPTION:Pench National Park is a national park in India’s Madhya Pradesh state\, established in 1975 with an area of 257.26 km²
URL:https://staging6.runtra.com/event/pench-5k/
LOCATION:Bhivagad\, Bhivagad fort\, Nagpur
CATEGORIES:Short Run
ATTACH;FMTTYPE=image/webp:https://staging6.runtra.com/wp-content/uploads/2023/02/placeholder-listings.webp
ORGANIZER;CN="e.macronxyzal123%40gmail.com":MAILTO:e.macronxyzal123@gmail.com
GEO:21.6495224;79.2451149
X-APPLE-STRUCTURED-LOCATION;VALUE=URI;X-ADDRESS=Bhivagad Bhivagad fort Nagpur;X-APPLE-RADIUS=500;X-TITLE=Bhivagad fort:geo:79.2451149,21.6495224
END:VEVENT
BEGIN:VEVENT
DTSTART;TZID=America/Chicago:20230218T080000
DTEND;TZID=America/Chicago:20230218T090000
DTSTAMP:20260423T150326
CREATED:20230202T040710Z
LAST-MODIFIED:20230202T041023Z
UID:10000298-1676707200-1676710800@staging6.runtra.com
SUMMARY:Mumbai Marine Drive 5K
DESCRIPTION:Marine Drive is a 3 kilometre-long Promenade along the Netaji Subhash Chandra Bose Road in Mumbai\, India. The road and promenade were constructed by Pallonji Mistry. It is a ‘C’-shaped six-lane concrete road along the coast of a natural bay.
URL:https://staging6.runtra.com/event/mumbai-marine-drive-5k/
LOCATION:Marine Drive\, Marine Drive Mumbai\, Mumbai
CATEGORIES:Short Run
ATTACH;FMTTYPE=image/jpeg:https://staging6.runtra.com/wp-content/uploads/2023/02/GettyImages-1008831236-5c65d6bf4cedfd00014aa310.jpg
GEO:18.9432111;72.8229983
X-APPLE-STRUCTURED-LOCATION;VALUE=URI;X-ADDRESS=Marine Drive Marine Drive Mumbai Mumbai;X-APPLE-RADIUS=500;X-TITLE=Marine Drive Mumbai:geo:72.8229983,18.9432111
END:VEVENT
BEGIN:VEVENT
DTSTART;TZID=America/Chicago:20230219T060000
DTEND;TZID=America/Chicago:20230219T070000
DTSTAMP:20260423T150326
CREATED:20230107T033127Z
LAST-MODIFIED:20230107T033127Z
UID:10000283-1676786400-1676790000@staging6.runtra.com
SUMMARY:Raipur River Run
DESCRIPTION:This is a run on Raipur marine drive.
URL:https://staging6.runtra.com/event/raipur-river-run/2023-02-19/
LOCATION:Raipur Marine Drive\, Raipur Marine Drive\, Telibanda\, Raipur\, 49002
CATEGORIES:Short Run
ATTACH;FMTTYPE=image/jpeg:https://staging6.runtra.com/wp-content/uploads/2023/01/26167203_908855435944954_6425181120329259286_n_20190305123458.jpg
ORGANIZER;CN="Amaresh%20Chitrakavi":MAILTO:chitrakavi@gmail.com
GEO:21.2407224;81.6604157
X-APPLE-STRUCTURED-LOCATION;VALUE=URI;X-ADDRESS=Raipur Marine Drive Raipur Marine Drive Telibanda Raipur 49002;X-APPLE-RADIUS=500;X-TITLE=Raipur Marine Drive\, Telibanda:geo:81.6604157,21.2407224
END:VEVENT
BEGIN:VEVENT
DTSTART;TZID=America/Chicago:20230225T080000
DTEND;TZID=America/Chicago:20230225T090000
DTSTAMP:20260423T150326
CREATED:20230214T121256Z
LAST-MODIFIED:20230223T104016Z
UID:10000561-1677312000-1677315600@staging6.runtra.com
SUMMARY:Bhojtal 3KM Run
DESCRIPTION:Bhojtal\, formerly known as Upper Lake\, is a large lake which lies on the western side of the capital city of Madhya Pradesh\, Bhopal\, India. It is a major source of drinking water for the residents of the city\, serving around 40% of the residents with nearly 30 million imperial gallons of water per day.
URL:https://staging6.runtra.com/event/bhojtal-3km-run-2/
LOCATION:ssds\, sunny enclave\, Mohali\, dsd\, India
CATEGORIES:Cross-Training,Long Run,Races,Short Run
ATTACH;FMTTYPE=image/jpeg:https://staging6.runtra.com/wp-content/uploads/2023/02/Upper_lake_20180219174029.jpg
ORGANIZER;CN="e.macronxyzal123%40gmail.com":MAILTO:e.macronxyzal123@gmail.com
GEO:30.7585116;76.6625902
X-APPLE-STRUCTURED-LOCATION;VALUE=URI;X-ADDRESS=ssds sunny enclave Mohali dsd India;X-APPLE-RADIUS=500;X-TITLE=sunny enclave:geo:76.6625902,30.7585116
END:VEVENT
BEGIN:VEVENT
DTSTART;TZID=America/Chicago:20230226T060000
DTEND;TZID=America/Chicago:20230226T070000
DTSTAMP:20260423T150326
CREATED:20230107T033127Z
LAST-MODIFIED:20230107T033127Z
UID:10000284-1677391200-1677394800@staging6.runtra.com
SUMMARY:Raipur River Run
DESCRIPTION:This is a run on Raipur marine drive.
URL:https://staging6.runtra.com/event/raipur-river-run/2023-02-26/
LOCATION:Raipur Marine Drive\, Raipur Marine Drive\, Telibanda\, Raipur\, 49002
CATEGORIES:Short Run
ATTACH;FMTTYPE=image/jpeg:https://staging6.runtra.com/wp-content/uploads/2023/01/26167203_908855435944954_6425181120329259286_n_20190305123458.jpg
ORGANIZER;CN="Amaresh%20Chitrakavi":MAILTO:chitrakavi@gmail.com
GEO:21.2407224;81.6604157
X-APPLE-STRUCTURED-LOCATION;VALUE=URI;X-ADDRESS=Raipur Marine Drive Raipur Marine Drive Telibanda Raipur 49002;X-APPLE-RADIUS=500;X-TITLE=Raipur Marine Drive\, Telibanda:geo:81.6604157,21.2407224
END:VEVENT
END:VCALENDAR